BEGIN:VCALENDAR
VERSION:2.0
PRODID:-//Association pour les orphelins d&#039;afrique - ECPv6.15.18//NONSGML v1.0//EN
CALSCALE:GREGORIAN
METHOD:PUBLISH
X-ORIGINAL-URL:https://seletlumiereenmission.com
X-WR-CALDESC:Évènements pour Association pour les orphelins d&#039;afrique
REFRESH-INTERVAL;VALUE=DURATION:PT1H
X-Robots-Tag:noindex
X-PUBLISHED-TTL:PT1H
BEGIN:VTIMEZONE
TZID:Europe/Paris
BEGIN:DAYLIGHT
TZOFFSETFROM:+0100
TZOFFSETTO:+0200
TZNAME:CEST
DTSTART:20240331T010000
END:DAYLIGHT
BEGIN:STANDARD
TZOFFSETFROM:+0200
TZOFFSETTO:+0100
TZNAME:CET
DTSTART:20241027T010000
END:STANDARD
BEGIN:DAYLIGHT
TZOFFSETFROM:+0100
TZOFFSETTO:+0200
TZNAME:CEST
DTSTART:20250330T010000
END:DAYLIGHT
BEGIN:STANDARD
TZOFFSETFROM:+0200
TZOFFSETTO:+0100
TZNAME:CET
DTSTART:20251026T010000
END:STANDARD
BEGIN:DAYLIGHT
TZOFFSETFROM:+0100
TZOFFSETTO:+0200
TZNAME:CEST
DTSTART:20260329T010000
END:DAYLIGHT
BEGIN:STANDARD
TZOFFSETFROM:+0200
TZOFFSETTO:+0100
TZNAME:CET
DTSTART:20261025T010000
END:STANDARD
END:VTIMEZONE
BEGIN:VEVENT
DTSTART;VALUE=DATE:20250630
DTEND;VALUE=DATE:20250707
DTSTAMP:20260419T185658
CREATED:20250629T063721Z
LAST-MODIFIED:20250629T080545Z
UID:3027-1751241600-1751846399@seletlumiereenmission.com
SUMMARY:Campagne Appel aux Dons
DESCRIPTION:Aidons ensemble les enfants orphelins et défavorisés\n🗓 Du 30 juin au 6 juillet 2025\n📍 Cité Royale Impact Centre Chrétien – Stand n°33\, Porte 7 \nAidons ensemble les enfants orphelins et défavorisés en Afrique francophone à vivre leur véritable vie… avec Christ\, dans la dignité\, la sécurité et l’espoir.  \n💡 Notre objectif : Préparer la rentrée scolaire 2025–2026\nChaque enfant mérite de grandir\, d’apprendre\, de rêver… et d’avancer en sécurité. Une conférence sur 7 jours qui rassemble 7000 milles personnes chaque jour de plusieurs nationnalité différentes. \nPour cela\, nous lançons notre campagne de solidarité afin de préparer la rentrée scolaire 2025–2026 dans nos centres partenaires situés en : \n\nRépublique Démocratique du Congo\nRépublique du Congo\nCentrafrique\nCôte d’Ivoire\nCameroun\n\nNous voulons offrir à ces enfants : \n\n✏️ Des fournitures scolaires neuves\n👒 Des uniformes et vêtements\n📘 L’accès à l’éducation\n🍱 Des repas quotidiens\n🛏 Un environnement sûr et aimant\n\n🤝 Comment faire votre don ? Il y a plein de façons de s’engager !\n📌 1. Venez nous rencontrer sur notre stand\n👉 Stand n°33\, Porte 7\n📍 Cité Royale – Du 30 juin au 6 juillet 2025 \n📌 2. Faites un don financier\n📲 Scannez le QR Code pour donner en toute sécurité\n🎁 Vos dons sont déductibles à 75 % jusqu’à 1 000 € \n📌 3. Devenez parrain ou marraine\n❤️ Offrez à un enfant un toit\, une école\, de l’amour et un avenir \n📌 4. Achetez des produits solidaire\n🛍️ Chaque achat profite directement aux enfants \n📌 5. Participez à notre tombola\n🎉 Gagnez des lots tout en aidant une cause qui compte \n📌 6. Apportez vos dons en nature\n🎒 Fournitures scolaires neuves\n👕 Vêtements propres et adaptés\n📚 Livres\, jeux éducatifs… \n📌 7. Rejoignez-nous comme membre ou bénévole\n🤝 On a besoin de bras\, de cœurs\, d’idées\, de soutien logistique \n🤝 Nous répondrons à toutes vos questions  !\n📌 1. Combien d’enfants pris en charge ? \n📌 2. Quelles sont les activités des enfants ? \n📌 3. La moyenne d’âge des enfants ?\n📌 4. Les témoignages\n📌 5. Le recrutement des bénévoles sur place et la garantie de la moralité des aidants auprès d’enfants vulnérables et fragiles\n📌 6. La ganrantie de la bonne gestion des dons\n🎒 7. Vos projets de developpement\n👕 8. Le soutien de l’Etat dans vos pays \n🎒 7. Quelle éducation spirituelles pour les enfants qui veulent du christ et ceux qui veulent pas du christ \n🌟 Plein d’autres surprises vous attendent ! \nDes animations\, des rencontres\, des témoignages\, et peut-être même quelques visites surprises venues du terrain…\nRejoins-nous pour vivre une semaine pleine de sens et d’amour ! \n🙌 Ensemble\, redonnons espoir à ceux qui n’ont rien choisi\nDerrière chaque enfant\, il y a un rêve.\nDerrière chaque don\, il y a un sourire.\nEt derrière chaque geste\, il y a un futur qui se construit. \nVotre aide compte. Et elle changera une vie. Peut-être même plusieurs. \n📍 Retrouvez-nous sur place ou contactez-nous :\n📧 Email : contact@selumiereenmission.com\n📱 Téléphone : +33  06 27 48 49 48 et 07 66 93 35 40\n🌐 Site internet : www.selumiereenmission.com\n📷 Twitter (X) : /SelLumenMission                                                                                                                                                                                              📷 Instagram : /seletlumiereenmission                                                                                                                                                                                      📘 Youtube : @seletlumiereenmission\n📘 TikToK : @seletlumiereenmission
URL:https://seletlumiereenmission.com/evenement/campagne-appel-aux-dons/
LOCATION:Pontault Combault\, 12 Rue de L'Epinette\, Pontalt Combault\, France
ATTACH;FMTTYPE=image/webp:https://seletlumiereenmission.com/wp-content/uploads/2025/06/appel-aux-dons.webp
ORGANIZER;CN="Association Sel et Lumi%C3%A8re en Mission":MAILTO:slm.adhesion@gmail.com
END:VEVENT
BEGIN:VEVENT
DTSTART;VALUE=DATE:20250701
DTEND;VALUE=DATE:20250702
DTSTAMP:20260419T185658
CREATED:20250629T080711Z
LAST-MODIFIED:20250629T083638Z
UID:3041-1751328000-1751414399@seletlumiereenmission.com
SUMMARY:Venez découvrir notre nouveau site internet !
DESCRIPTION:📅 Journée spéciale – Mercredi 1er juillet 2025 à l’église ICC de Croissy-Beaubourg\nChers amis\, bienveillants\, curieux et soutiens de Sel et Lumière en Mission \, \nLe 1er juillet 2025 \, nous vous invitons à une journée spéciale dédiée à la présentation de notre tout nouveau site internet \, au sein de l’église ICC à Croissy-Beaubourg . \nC’est un moment que nous attendions avec impatience : celui de vous montrer comment notre mission vit aujourd’hui \, comment elle se raconte en ligne… et comment vous pouvez encore plus facilement en faire partie . \n💡 Pourquoi une journée dédiée à la présentation du site ?\nNotre site n’est pas qu’un simple outil de communication.\nC’est une porte ouverte sur nos actions \, nos partenariats\, nos enfants\, nos bénévoles\, nos rêves…\nUn outil vivant\, transparent\, interactif\, pensé pour vous rapprocher de ce que nous faisons chaque jour pour les enfants orphelins et défavorisés en Afrique francophone. \nLors de cette journée\, vous pourrez : \n\n🔍 Découvrir toutes les fonctionnalités du site\n🗣️ Échanger avec l’équipe de Sel et Lumière en Mission\n👨‍👧‍👦 Suivre des témoignages touchants d’enfants aidés\n🤝 Trouver des réponses à vos questions (et poser celles que personne n’a encore pensées)\n🧭 Explorer les nouvelles façons de s’engager (don\, parrainage\, bénévolat)\n\n🎯 Un site pour tous\, pour chacun\, et surtout pour eux\nCe site est fait pour : \n\n✅ Les parrains et marraines \, qui veulent suivre leur enfant\n✅ Les donateurs \, qui souhaitent comprendre où va leur soutien\n✅ Les bénévoles \, prêts à donner de leur temps\n✅ Les curieux \, animés par le cœur ou l’appel\n✅ Et surtout… les enfants \, pour qui tout cela existe\n\nGrâce à lui\, vous pourrez suivre en temps réel : \n\nLes actualités des centres partenaire\nLes appels aux dons\nLes témoignages vidéo\nLes parcours d’enfants sauvés\nEt même participer à distance à certaines initiatives\n\n🕊️ Une journée sous le signe de la foi et de l’action\nBien sûr\, cette journée ne sera pas seulement technique. Elle sera aussi spirituelle\, humaine\, joyeuse. \nAu programme : \n\n📖 Moment de prière et de partage\n🎥 Présentation interactive du site\n🗣️ Témoignages en direct et enregistrés\n☕ Moment convivial autour d’un café-partage\n🎁 Surprise réservée aux participants\n\n📍 Informations pratiques\n📅 Date : Mercredi 1er juillet 2025\n⛪ Lieu : Église ICC – 77181 Croissy-Beaubourg\n🕘 Horaire : 14h00 à 18h00\n👨‍👩‍👧‍👦 Tout public – Enfants\, jeunes\, adultes\, familles bienvenues\n🎟 Entrée libre et gratuite \n❤️ Pourquoi venir ?\nParce que voir\, c’est croire.\nParce que comprendre\, c’est s’engager mieux.\nEt parce que peut-être\, en visitant ce site\, vous entendrez un appel :\n👉 “Viens\, tu as ta place ici.” \n🙏 Rejoignez-nous pour cette étape importante de notre mission !\nQue vous soyez déjà engagés ou simplement curieux\, que vous connaissiez Sel et Lumière en Mission depuis longtemps ou que vous entendiez parler de nous pour la première fois…\nVous êtes attendus ! \nCar derrière un clic\, il peut y avoir un sourire.\nDerrière un partage\, un repas.\nDerrière une visite\, un engagement. \n📍 Contact & Renseignements :\n📧 Email : contact@selumiereenmission.com\n📱 Téléphone : +33 06 27 48 49 48 ou 07 66 93 35 40\n🌐 Site internet : www.selumiereenmission.com\n📷 Twitter : /SelLumenMission                                                                                                                                                                                                      📷 Instagram : /seletlumiereenmission\n📘 Youtube : @seletlumiereenmission                                                                                                                                                                                          📘 TikTok : @seletlumiereenmission \n« L’Esprit Saint inspire. Le Christ guide. Et vous ? Vous êtes l’action. »
URL:https://seletlumiereenmission.com/evenement/mise-en-place-du-site/
LOCATION:Eglise ICC\, 21 rue Vieilles Vigne\, Croissy-Beaubourg\, 77183\, France
ATTACH;FMTTYPE=image/webp:https://seletlumiereenmission.com/wp-content/uploads/2025/06/presentation-site.webp
ORGANIZER;CN="Association Sel et Lumi%C3%A8re en Mission":MAILTO:slm.adhesion@gmail.com
END:VEVENT
END:VCALENDAR