BEGIN:VCALENDAR
VERSION:2.0
PRODID:-//Association pour les orphelins d&#039;afrique - ECPv6.15.18//NONSGML v1.0//EN
CALSCALE:GREGORIAN
METHOD:PUBLISH
X-ORIGINAL-URL:https://seletlumiereenmission.com
X-WR-CALDESC:Évènements pour Association pour les orphelins d&#039;afrique
REFRESH-INTERVAL;VALUE=DURATION:PT1H
X-Robots-Tag:noindex
X-PUBLISHED-TTL:PT1H
BEGIN:VTIMEZONE
TZID:Europe/Paris
BEGIN:DAYLIGHT
TZOFFSETFROM:+0100
TZOFFSETTO:+0200
TZNAME:CEST
DTSTART:20230326T010000
END:DAYLIGHT
BEGIN:STANDARD
TZOFFSETFROM:+0200
TZOFFSETTO:+0100
TZNAME:CET
DTSTART:20231029T010000
END:STANDARD
BEGIN:DAYLIGHT
TZOFFSETFROM:+0100
TZOFFSETTO:+0200
TZNAME:CEST
DTSTART:20240331T010000
END:DAYLIGHT
BEGIN:STANDARD
TZOFFSETFROM:+0200
TZOFFSETTO:+0100
TZNAME:CET
DTSTART:20241027T010000
END:STANDARD
BEGIN:DAYLIGHT
TZOFFSETFROM:+0100
TZOFFSETTO:+0200
TZNAME:CEST
DTSTART:20250330T010000
END:DAYLIGHT
BEGIN:STANDARD
TZOFFSETFROM:+0200
TZOFFSETTO:+0100
TZNAME:CET
DTSTART:20251026T010000
END:STANDARD
END:VTIMEZONE
BEGIN:VEVENT
DTSTART;VALUE=DATE:20240706
DTEND;VALUE=DATE:20240713
DTSTAMP:20260420T144258
CREATED:20250630T100901Z
LAST-MODIFIED:20250630T111855Z
UID:3128-1720224000-1720828799@seletlumiereenmission.com
SUMMARY:Campagne électoral d'amour
DESCRIPTION:Faites d’eux des rois pour les nations\nEn juillet 2024\, Sel et Lumière en Mission a lancé une initiative audacieuse : la Campagne électorale d’amour \, une action symbolique\, touchante et profondément humaine\, dédiée aux enfants orphelins et démunis d’Afrique francophone. \nMais ici\, point de politique.\nIci\, on ne votait pas pour un pouvoir.\nOn votait pour redonner dignité\, espoir et royauté à ceux que le monde a souvent relégués au dernier rang. \n    “Faites d’eux des rois pour les nations.”\nCe n’était pas juste un slogan. C’était un appel. Un rêve. Une promesse. \n💖 Qu’est-ce que cette campagne ?\nL’idée était simple mais puissante : imaginer un instant où chacun pourrait élire l’enfant qui mérite d’être roi… pour un jour\, pour toujours . \nDans chaque urne placée lors de nos stands\, dans chaque partage sur les réseaux sociaux\, dans chaque don reçu\, c’était une voix qui disait : \n“Toi\, enfant abandonné\, tu comptes. Tu as ta place. Et tu mérites le meilleur.” \nChaque vote comptait. Pas pour un siège de pouvoir\, mais pour une vie transformée.\nUn repas.\nUne rentrée scolaire.\nUn sourire.\nUn toit.\nUn futur. \n🗳️ Comment avons-nous « élu » l’amour ?\nLa campagne s’est déroulée sous forme d’un jeu de rôle joyeux et symbolique : \n\nDes affiches avec les visages des enfants\, comme autant de candidats du cœur\nDes slogans inspirants :\n👉 “Votez pour Jean\, futur médecin”\n👉 “Élisez Awa\, reine de l’espoir”\n👉 “Choisissez le bonheur d’un enfant\, avant le vôtre”\nDes urnes\, des bulletins\, des moments de prière\, de partage\, de rencontres\nEt surtout\, des gestes concrets : dons financiers\, fournitures scolaires\, parrainages\n\n👦👧 Les vrais gagnants ? Eux\, les enfants\nÀ la fin\, tous étaient élus.\nTous ont reçu leur part d’amour. \n \nMais grâce à vos votes et vos dons\, nous avons pu : \n\n🍽 Offrir des repas quotidiens à plus de 100 enfants pendant un mois\n📚 Équiper deux centres scolaires en fournitures neuves\n🧑‍⚕️ Garantir des consultations médicales gratuites à une communauté fragile\n🏠 Améliorer les conditions de vie dans un orphelinat menacé par la précarité\n\nEt derrière ces actions\, il y a eu des yeux qui se sont relevés.\nDes mains qui ont retrouvé prise sur la vie.\nDes rêves qui ont osé renaître. \n🕊️ Le Royaume de Dieu commence ici\nCette campagne n’était pas seulement une idée originale. Elle était aussi une manière de rappeler ce que la foi nous enseigne : \n« Celui qui est le plus petit parmi vous est celui qui est grand. » (Luc 9\, 48)\n« Vous aimerez le prochain comme vous-même. » (Matthieu 22\, 39) \nDieu aime les petits. Il élève les humiliés.\nEt à travers cette campagne\, nous avons voulu faire pareil :\n👉 Redonner sa couronne à qui l’a perdue trop tôt.\n👉 Redonner sa dignité à qui ne l’a jamais eue.\n👉 Redonner son nom à qui n’avait que silence. \n🙌 Merci à vous\, électeurs du cœur\nMerci à celles et ceux qui ont participé\, voté\, donné\, partagé.\nMerci à ceux qui ont ri devant une pancarte\, pleuré devant un témoignage\, et agi sans attendre. \nGrâce à vous\, des enfants aujourd’hui savent qu’ils ne sont pas invisibles.\nGrâce à vous\, ils portent un regard nouveau sur eux-mêmes.\nGrâce à vous\, ils commencent à croire qu’ils peuvent régner…\npas sur un trône\, mais sur leur propre vie. \n❤️ Rejoignez-nous pour la suite de notre mission\nL’élection est terminée.\nMais la royauté se construit chaque jour.\nRejoignez-nous dans cette mission divine et humaine :\n👉 [Devenir parrain ou marraine]\n👉 [Faire un don régulier ou ponctuel]\n👉 [Rejoindre nos bénévoles] \nCar ensemble\, nous pouvons faire de chaque enfant\, un roi pour les nations. \n📧 Email : contact@selumiereenmission.com\n📱 Téléphone : +33  06 27 48 49 48 et 07 66 93 35 40\n🌐 Site internet : www.selumiereenmission.com\n📷 Twitter (X) : /SelLumenMission                                                                                                                                                                                              📷 Instagram : /seletlumiereenmission                                                                                                                                                                                      📘 Youtube : @seletlumiereenmission\n📘 TikToK : @seletlumiereenmission
URL:https://seletlumiereenmission.com/evenement/campagne-electoral-damour/
LOCATION:Pontault Combault\, 12 Rue de L'Epinette\, Pontalt Combault\, France
ATTACH;FMTTYPE=image/webp:https://seletlumiereenmission.com/wp-content/uploads/2025/06/evenement-1.webp
ORGANIZER;CN="Association Sel et Lumi%C3%A8re en Mission":MAILTO:slm.adhesion@gmail.com
END:VEVENT
BEGIN:VEVENT
DTSTART;VALUE=DATE:20240706
DTEND;VALUE=DATE:20240713
DTSTAMP:20260420T144258
CREATED:20250630T103852Z
LAST-MODIFIED:20250630T111444Z
UID:3133-1720224000-1720828799@seletlumiereenmission.com
SUMMARY:Parrainez pour bâtir des destinées
DESCRIPTION:Pour cette année\, mettez des étoiles dans leurs yeux\nÀ l’approche de la nouvelle année\, Sel et Lumière en Mission a lancé une campagne pleine de sens et de lumière : « Parrainez pour bâtir des destinées » . \nAvec le slogan « Pour cette année\, mettez des étoiles dans leurs yeux » \, nous avons voulu rappeler que chaque enfant mérite d’avoir un rêve à suivre\, une lumière à regarder\, une espérance à construire. \nEt si ce rêve pouvait commencer grâce à vous ? \n🎁 Une campagne sous le signe de l’espoir\nDécembre est souvent un mois de retrouvailles\, de cadeaux\, de chaleur humaine… mais pas pour tous. \nPour beaucoup d’enfants orphelins ou démunis en Afrique francophone\, décembre n’est pas toujours synonyme de bonheur.\nC’est pourquoi\, pendant tout le mois\, nous avons mis en avant les enfants qui attendent encore leur parrain ou leur marraine — ceux qui ont besoin d’un coup de pouce pour grandir autrement. \n“Un parrainage\, c’est bien plus qu’un don. C’est une promesse. Un lien. Une lumière au bout du chemin.” \n👦👧 À quoi sert le parrainage ?\nLe parrainage est une action simple… mais aux effets profonds : \n\n✅ Il permet à un enfant d’aller à l’école\n✅ De manger à sa faim\n✅ D’être suivi médicalement\n✅ Et surtout… de savoir qu’il compte pour quelqu’un\, quelque part dans le monde\n\nChaque euro versé est une pierre posée dans l’édifice d’une vie.\nChaque lettre reçue est un sourire de plus\, un espoir renouvelé. \n🌞 Mettre des étoiles dans leurs yeux\nL’idée de cette campagne était aussi poétique : \nRedonner à ces enfants la capacité de rêver.\nAllumer dans leurs yeux cette étincelle qu’on appelle l’espoir . \nParce que quand un enfant sourit en découvrant une lettre venue de loin\,\nquand il tient entre ses mains un livre neuf\,\nquand il comprend qu’un inconnu pense à lui\,\nalors\, oui… il y a une étoile qui brille dans son regard. \n\n  \n🤝 Comment avez-vous pu participer ?\nDurant toute la campagne : \n\n🔍 Vous avez découvert les profils d’enfants en attente de parrainage\n💬 Vous avez pu choisir\, parrainer\, écrire\, recevoir des nouvelles\n📎 Des stands étaient installés dans plusieurs villes pour vous expliquer concrètement comment agir\n🎁 Des animations\, témoignages et moments de prière ont rythmé les rencontres\n📲 Et en ligne\, notre site vous offrait la possibilité de devenir parrain ou marraine en quelques clics\n\n❤️ Témoignage d’un enfant touché par la campagne\n« Avant\, je ne savais pas si j’irai à l’école cette année. Maintenant\, j’ai un sac\, des cahiers\, et même une photo de mon parrain dans ma chambre. Quand je le regarde\, je me dis : ‘Il croit en moi.’ Et ça\, ça me donne envie de réussir. »\n– Jean\, 11 ans\, République du Congo \n🕊️ Un engagement spirituel\, un geste concret\nPour Sel et Lumière en Mission\, parrainer un enfant\, c’est aussi vivre cet appel biblique : \n“Celui qui reçoit un enfant en mon nom\, c’est moi qu’il reçoit.” (Marc 9\, 37) \nParrainer\, c’est donc accueillir.\nC’est tendre la main.\nC’est dire à un enfant : \n“Tu as une place. Tu as une valeur. Tu as un futur.”  \n🙏 Merci à tous les parrains\, marraines et soutiens\nMerci à celles et ceux qui ont répondu présents.\nMerci à ceux qui ont dit “oui” à un enfant.\nMerci à ceux qui ont fait briller une étoile dans un regard \nGrâce à vous\, des destins se redessinent.\nGrâce à vous\, des vies reprennent courage.\nGrâce à vous\, l’avenir est possible. \n🌈 Continuez à faire briller des étoiles\nL’événement est passé\, mais l’appel continueVous aussi\, vous pouvez devenir parrain ou marraine\, et offrir à un enfant :\n👉 La chance d’aller à l’école\n👉 La sécurité d’un toit\n👉 L’amour d’une présence \nEt qui sait…\nPeut-être que ce sera vous \, l’étoile qui changera une vie. \n👉 [Devenir parrain ou marraine]\n👉 [Faire un don]\n👉 [Rejoindre nos bénévoles] \n🌟 Pour cette année\, et pour toutes les autres…\nQue votre cœur soit une étoile.\nQue votre amour soit une lumière.\nQue votre geste soit un destin changé. \n« Pour cette année\, mettez des étoiles dans leurs yeux. »\nCar derrière chaque regard émerveillé\, il y a une vie transformée. \n📧 Email : contact@selumiereenmission.com\n📱 Téléphone : +33  06 27 48 49 48 et 07 66 93 35 40\n🌐 Site internet : www.selumiereenmission.com\n📷 Twitter (X) : /SelLumenMission                                                                                                                                                                                              📷 Instagram : /seletlumiereenmission                                                                                                                                                                                      📘 Youtube : @seletlumiereenmission\n📘 TikToK : @seletlumiereenmission
URL:https://seletlumiereenmission.com/evenement/parrainez-pour-batir-des-destinees/
LOCATION:Pontault Combault\, 12 Rue de L'Epinette\, Pontalt Combault\, France
ATTACH;FMTTYPE=image/webp:https://seletlumiereenmission.com/wp-content/uploads/2025/06/evenement-2.webp
ORGANIZER;CN="Association Sel et Lumi%C3%A8re en Mission":MAILTO:slm.adhesion@gmail.com
END:VEVENT
END:VCALENDAR